BEGIN:VCALENDAR
VERSION:2.0
PRODID:-//WestWind Church - ECPv6.15.14//NONSGML v1.0//EN
CALSCALE:GREGORIAN
METHOD:PUBLISH
X-ORIGINAL-URL:https://westwind-church.org
X-WR-CALDESC:Events for WestWind Church
REFRESH-INTERVAL;VALUE=DURATION:PT1H
X-Robots-Tag:noindex
X-PUBLISHED-TTL:PT1H
BEGIN:VTIMEZONE
TZID:America/Chicago
BEGIN:DAYLIGHT
TZOFFSETFROM:-0600
TZOFFSETTO:-0500
TZNAME:CDT
DTSTART:20180311T080000
END:DAYLIGHT
BEGIN:STANDARD
TZOFFSETFROM:-0500
TZOFFSETTO:-0600
TZNAME:CST
DTSTART:20181104T070000
END:STANDARD
BEGIN:DAYLIGHT
TZOFFSETFROM:-0600
TZOFFSETTO:-0500
TZNAME:CDT
DTSTART:20190310T080000
END:DAYLIGHT
BEGIN:STANDARD
TZOFFSETFROM:-0500
TZOFFSETTO:-0600
TZNAME:CST
DTSTART:20191103T070000
END:STANDARD
BEGIN:DAYLIGHT
TZOFFSETFROM:-0600
TZOFFSETTO:-0500
TZNAME:CDT
DTSTART:20200308T080000
END:DAYLIGHT
BEGIN:STANDARD
TZOFFSETFROM:-0500
TZOFFSETTO:-0600
TZNAME:CST
DTSTART:20201101T070000
END:STANDARD
BEGIN:DAYLIGHT
TZOFFSETFROM:-0600
TZOFFSETTO:-0500
TZNAME:CDT
DTSTART:20210314T080000
END:DAYLIGHT
BEGIN:STANDARD
TZOFFSETFROM:-0500
TZOFFSETTO:-0600
TZNAME:CST
DTSTART:20211107T070000
END:STANDARD
END:VTIMEZONE
BEGIN:VEVENT
DTSTART;TZID=America/Chicago:20200223T093000
DTEND;TZID=America/Chicago:20200223T101500
DTSTAMP:20260422T014032
CREATED:20200201T142623Z
LAST-MODIFIED:20200201T142623Z
UID:15189-1582450200-1582452900@westwind-church.org
SUMMARY:Sunday School
DESCRIPTION:
URL:https://westwind-church.org/event/sunday-school-38/
LOCATION:Multiple Rooms
CATEGORIES:Bible Studies
END:VEVENT
BEGIN:VEVENT
DTSTART;TZID=America/Chicago:20200216T093000
DTEND;TZID=America/Chicago:20200216T101500
DTSTAMP:20260422T014032
CREATED:20200201T142617Z
LAST-MODIFIED:20200201T142617Z
UID:15179-1581845400-1581848100@westwind-church.org
SUMMARY:Sunday School
DESCRIPTION:
URL:https://westwind-church.org/event/sunday-school-37/
LOCATION:Multiple Rooms
CATEGORIES:Bible Studies
END:VEVENT
BEGIN:VEVENT
DTSTART;TZID=America/Chicago:20200209T093000
DTEND;TZID=America/Chicago:20200209T101500
DTSTAMP:20260422T014032
CREATED:20200201T142612Z
LAST-MODIFIED:20200201T142612Z
UID:15170-1581240600-1581243300@westwind-church.org
SUMMARY:Sunday School
DESCRIPTION:
URL:https://westwind-church.org/event/sunday-school-36/
LOCATION:Multiple Rooms
CATEGORIES:Bible Studies
END:VEVENT
BEGIN:VEVENT
DTSTART;TZID=America/Chicago:20200202T093000
DTEND;TZID=America/Chicago:20200202T101500
DTSTAMP:20260422T014032
CREATED:20200201T142608Z
LAST-MODIFIED:20200201T142608Z
UID:15161-1580635800-1580638500@westwind-church.org
SUMMARY:Sunday School
DESCRIPTION:
URL:https://westwind-church.org/event/sunday-school-35/
LOCATION:Multiple Rooms
CATEGORIES:Bible Studies
END:VEVENT
BEGIN:VEVENT
DTSTART;TZID=America/Chicago:20200126T093000
DTEND;TZID=America/Chicago:20200126T101500
DTSTAMP:20260422T014032
CREATED:20191231T160943Z
LAST-MODIFIED:20191231T160943Z
UID:15152-1580031000-1580033700@westwind-church.org
SUMMARY:Sunday School
DESCRIPTION:
URL:https://westwind-church.org/event/sunday-school-34/
LOCATION:Multiple Rooms
CATEGORIES:Bible Studies
END:VEVENT
BEGIN:VEVENT
DTSTART;TZID=America/Chicago:20200119T093000
DTEND;TZID=America/Chicago:20200119T101500
DTSTAMP:20260422T014032
CREATED:20191231T160935Z
LAST-MODIFIED:20191231T160935Z
UID:15143-1579426200-1579428900@westwind-church.org
SUMMARY:Sunday School
DESCRIPTION:
URL:https://westwind-church.org/event/sunday-school-33/
LOCATION:Multiple Rooms
CATEGORIES:Bible Studies
END:VEVENT
BEGIN:VEVENT
DTSTART;TZID=America/Chicago:20200112T093000
DTEND;TZID=America/Chicago:20200112T101500
DTSTAMP:20260422T014032
CREATED:20191231T160929Z
LAST-MODIFIED:20191231T160929Z
UID:15135-1578821400-1578824100@westwind-church.org
SUMMARY:Sunday School
DESCRIPTION:
URL:https://westwind-church.org/event/sunday-school-32/
LOCATION:Multiple Rooms
CATEGORIES:Bible Studies
END:VEVENT
BEGIN:VEVENT
DTSTART;TZID=America/Chicago:20200105T093000
DTEND;TZID=America/Chicago:20200105T101500
DTSTAMP:20260422T014032
CREATED:20191231T160924Z
LAST-MODIFIED:20191231T160924Z
UID:15128-1578216600-1578219300@westwind-church.org
SUMMARY:Sunday School
DESCRIPTION:
URL:https://westwind-church.org/event/sunday-school-31/
LOCATION:Multiple Rooms
CATEGORIES:Bible Studies
END:VEVENT
BEGIN:VEVENT
DTSTART;TZID=America/Chicago:20191208T093000
DTEND;TZID=America/Chicago:20191208T101500
DTSTAMP:20260422T014032
CREATED:20191130T212729Z
LAST-MODIFIED:20191130T212729Z
UID:15098-1575797400-1575800100@westwind-church.org
SUMMARY:Sunday School
DESCRIPTION:
URL:https://westwind-church.org/event/sunday-school-28/
LOCATION:Multiple Rooms
CATEGORIES:Bible Studies
END:VEVENT
BEGIN:VEVENT
DTSTART;TZID=America/Chicago:20191201T093000
DTEND;TZID=America/Chicago:20191201T101500
DTSTAMP:20260422T014032
CREATED:20191130T212724Z
LAST-MODIFIED:20191130T212724Z
UID:15091-1575192600-1575195300@westwind-church.org
SUMMARY:Sunday School
DESCRIPTION:
URL:https://westwind-church.org/event/sunday-school-27/
LOCATION:Multiple Rooms
CATEGORIES:Bible Studies
END:VEVENT
BEGIN:VEVENT
DTSTART;TZID=America/Chicago:20191124T093000
DTEND;TZID=America/Chicago:20191124T101500
DTSTAMP:20260422T014032
CREATED:20191102T152900Z
LAST-MODIFIED:20191102T152900Z
UID:15081-1574587800-1574590500@westwind-church.org
SUMMARY:Sunday School
DESCRIPTION:
URL:https://westwind-church.org/event/sunday-school-26/
LOCATION:Multiple Rooms
CATEGORIES:Bible Studies
END:VEVENT
BEGIN:VEVENT
DTSTART;TZID=America/Chicago:20191119T103000
DTEND;TZID=America/Chicago:20191119T120000
DTSTAMP:20260422T014032
CREATED:20191102T152855Z
LAST-MODIFIED:20191102T152855Z
UID:15076-1574159400-1574164800@westwind-church.org
SUMMARY:Bible Study
DESCRIPTION:
URL:https://westwind-church.org/event/bible-study-29/
CATEGORIES:Bible Studies
END:VEVENT
BEGIN:VEVENT
DTSTART;TZID=America/Chicago:20191117T093000
DTEND;TZID=America/Chicago:20191117T101500
DTSTAMP:20260422T014032
CREATED:20191102T152851Z
LAST-MODIFIED:20191102T152851Z
UID:15070-1573983000-1573985700@westwind-church.org
SUMMARY:Sunday School
DESCRIPTION:
URL:https://westwind-church.org/event/sunday-school-25/
LOCATION:Multiple Rooms
CATEGORIES:Bible Studies
END:VEVENT
BEGIN:VEVENT
DTSTART;TZID=America/Chicago:20191112T103000
DTEND;TZID=America/Chicago:20191112T120000
DTSTAMP:20260422T014032
CREATED:20191102T152847Z
LAST-MODIFIED:20191102T152847Z
UID:15065-1573554600-1573560000@westwind-church.org
SUMMARY:Bible Study
DESCRIPTION:
URL:https://westwind-church.org/event/bible-study-28/
CATEGORIES:Bible Studies
END:VEVENT
BEGIN:VEVENT
DTSTART;TZID=America/Chicago:20191110T093000
DTEND;TZID=America/Chicago:20191110T101500
DTSTAMP:20260422T014032
CREATED:20191102T152844Z
LAST-MODIFIED:20191102T152844Z
UID:15062-1573378200-1573380900@westwind-church.org
SUMMARY:Sunday School
DESCRIPTION:
URL:https://westwind-church.org/event/sunday-school-24/
LOCATION:Multiple Rooms
CATEGORIES:Bible Studies
END:VEVENT
BEGIN:VEVENT
DTSTART;TZID=America/Chicago:20191105T103000
DTEND;TZID=America/Chicago:20191105T120000
DTSTAMP:20260422T014032
CREATED:20191102T152842Z
LAST-MODIFIED:20191102T152842Z
UID:15058-1572949800-1572955200@westwind-church.org
SUMMARY:Bible Study
DESCRIPTION:
URL:https://westwind-church.org/event/bible-study-27/
CATEGORIES:Bible Studies
END:VEVENT
BEGIN:VEVENT
DTSTART;TZID=America/Chicago:20191103T093000
DTEND;TZID=America/Chicago:20191103T101500
DTSTAMP:20260422T014032
CREATED:20191102T152836Z
LAST-MODIFIED:20191102T152836Z
UID:15052-1572773400-1572776100@westwind-church.org
SUMMARY:Sunday School
DESCRIPTION:
URL:https://westwind-church.org/event/sunday-school-23/
LOCATION:Multiple Rooms
CATEGORIES:Bible Studies
END:VEVENT
BEGIN:VEVENT
DTSTART;TZID=America/Chicago:20191027T093000
DTEND;TZID=America/Chicago:20191027T101500
DTSTAMP:20260422T014032
CREATED:20191003T000849Z
LAST-MODIFIED:20191003T000849Z
UID:15037-1572168600-1572171300@westwind-church.org
SUMMARY:Sunday School
DESCRIPTION:
URL:https://westwind-church.org/event/sunday-school-22/
LOCATION:Multiple Rooms
CATEGORIES:Bible Studies
END:VEVENT
BEGIN:VEVENT
DTSTART;TZID=America/Chicago:20191022T103000
DTEND;TZID=America/Chicago:20191022T120000
DTSTAMP:20260422T014032
CREATED:20191003T000846Z
LAST-MODIFIED:20191003T000846Z
UID:15032-1571740200-1571745600@westwind-church.org
SUMMARY:Bible Study
DESCRIPTION:
URL:https://westwind-church.org/event/bible-study-26/
LOCATION:Library
CATEGORIES:Bible Studies
END:VEVENT
BEGIN:VEVENT
DTSTART;TZID=America/Chicago:20191020T093000
DTEND;TZID=America/Chicago:20191020T101500
DTSTAMP:20260422T014032
CREATED:20191003T000843Z
LAST-MODIFIED:20191003T000843Z
UID:15027-1571563800-1571566500@westwind-church.org
SUMMARY:Sunday School
DESCRIPTION:
URL:https://westwind-church.org/event/sunday-school-21/
LOCATION:Multiple Rooms
CATEGORIES:Bible Studies
END:VEVENT
BEGIN:VEVENT
DTSTART;TZID=America/Chicago:20191015T103000
DTEND;TZID=America/Chicago:20191015T120000
DTSTAMP:20260422T014032
CREATED:20191003T000841Z
LAST-MODIFIED:20191003T000841Z
UID:15023-1571135400-1571140800@westwind-church.org
SUMMARY:Bible Study
DESCRIPTION:
URL:https://westwind-church.org/event/bible-study-25/
LOCATION:Library
CATEGORIES:Bible Studies
END:VEVENT
BEGIN:VEVENT
DTSTART;TZID=America/Chicago:20191013T093000
DTEND;TZID=America/Chicago:20191013T101500
DTSTAMP:20260422T014032
CREATED:20191003T000839Z
LAST-MODIFIED:20191003T000839Z
UID:15020-1570959000-1570961700@westwind-church.org
SUMMARY:Sunday School
DESCRIPTION:
URL:https://westwind-church.org/event/sunday-school-20/
LOCATION:Multiple Rooms
CATEGORIES:Bible Studies
END:VEVENT
BEGIN:VEVENT
DTSTART;TZID=America/Chicago:20191008T103000
DTEND;TZID=America/Chicago:20191008T120000
DTSTAMP:20260422T014032
CREATED:20191003T000837Z
LAST-MODIFIED:20191003T000837Z
UID:15015-1570530600-1570536000@westwind-church.org
SUMMARY:Bible Study
DESCRIPTION:
URL:https://westwind-church.org/event/bible-study-24/
CATEGORIES:Bible Studies
END:VEVENT
BEGIN:VEVENT
DTSTART;TZID=America/Chicago:20191006T093000
DTEND;TZID=America/Chicago:20191006T101500
DTSTAMP:20260422T014032
CREATED:20191003T000835Z
LAST-MODIFIED:20191003T000835Z
UID:15010-1570354200-1570356900@westwind-church.org
SUMMARY:Sunday School
DESCRIPTION:
URL:https://westwind-church.org/event/sunday-school-19/
LOCATION:Multiple Rooms
CATEGORIES:Bible Studies
END:VEVENT
BEGIN:VEVENT
DTSTART;TZID=America/Chicago:20191001T103000
DTEND;TZID=America/Chicago:20191001T120000
DTSTAMP:20260422T014032
CREATED:20191003T000833Z
LAST-MODIFIED:20191003T000833Z
UID:15005-1569925800-1569931200@westwind-church.org
SUMMARY:Bible Study
DESCRIPTION:
URL:https://westwind-church.org/event/bible-study-23/
CATEGORIES:Bible Studies
END:VEVENT
BEGIN:VEVENT
DTSTART;TZID=America/Chicago:20190915T093000
DTEND;TZID=America/Chicago:20190915T093000
DTSTAMP:20260422T014032
CREATED:20190902T134048Z
LAST-MODIFIED:20190902T134048Z
UID:14980-1568539800-1568539800@westwind-church.org
SUMMARY:Sunday School
DESCRIPTION:
URL:https://westwind-church.org/event/sunday-school-16/
LOCATION:Multiple Rooms
CATEGORIES:Bible Studies
END:VEVENT
BEGIN:VEVENT
DTSTART;TZID=America/Chicago:20190910T103000
DTEND;TZID=America/Chicago:20190910T103000
DTSTAMP:20260422T014032
CREATED:20190902T134045Z
LAST-MODIFIED:20190902T134045Z
UID:14975-1568111400-1568111400@westwind-church.org
SUMMARY:Bible Study
DESCRIPTION:
URL:https://westwind-church.org/event/bible-study-18/
CATEGORIES:Bible Studies
END:VEVENT
BEGIN:VEVENT
DTSTART;TZID=America/Chicago:20190908T093000
DTEND;TZID=America/Chicago:20190908T101500
DTSTAMP:20260422T014032
CREATED:20190902T134043Z
LAST-MODIFIED:20190902T134043Z
UID:14971-1567935000-1567937700@westwind-church.org
SUMMARY:Sunday School
DESCRIPTION:
URL:https://westwind-church.org/event/sunday-school-15/
LOCATION:Multiple Rooms
CATEGORIES:Bible Studies
END:VEVENT
BEGIN:VEVENT
DTSTART;TZID=America/Chicago:20190903T103000
DTEND;TZID=America/Chicago:20190903T120000
DTSTAMP:20260422T014032
CREATED:20190902T134042Z
LAST-MODIFIED:20190902T134042Z
UID:14967-1567506600-1567512000@westwind-church.org
SUMMARY:Bible Study
DESCRIPTION:
URL:https://westwind-church.org/event/bible-study-17/
CATEGORIES:Bible Studies
END:VEVENT
BEGIN:VEVENT
DTSTART;TZID=America/Chicago:20190430T103000
DTEND;TZID=America/Chicago:20190430T120000
DTSTAMP:20260422T014032
CREATED:20190409T180147Z
LAST-MODIFIED:20190422T234249Z
UID:14703-1556620200-1556625600@westwind-church.org
SUMMARY:Bible Study
DESCRIPTION:
URL:https://westwind-church.org/event/bible-study-6/
LOCATION:Library
CATEGORIES:Bible Studies
END:VEVENT
END:VCALENDAR